BEGIN:VCALENDAR
VERSION:2.0
PRODID:-//WV Collective - ECPv6.15.20//NONSGML v1.0//EN
CALSCALE:GREGORIAN
METHOD:PUBLISH
X-WR-CALNAME:WV Collective
X-ORIGINAL-URL:https://wvcollective.org
X-WR-CALDESC:Events for WV Collective
REFRESH-INTERVAL;VALUE=DURATION:PT1H
X-Robots-Tag:noindex
X-PUBLISHED-TTL:PT1H
BEGIN:VTIMEZONE
TZID:America/New_York
BEGIN:DAYLIGHT
TZOFFSETFROM:-0500
TZOFFSETTO:-0400
TZNAME:EDT
DTSTART:20220313T070000
END:DAYLIGHT
BEGIN:STANDARD
TZOFFSETFROM:-0400
TZOFFSETTO:-0500
TZNAME:EST
DTSTART:20221106T060000
END:STANDARD
BEGIN:DAYLIGHT
TZOFFSETFROM:-0500
TZOFFSETTO:-0400
TZNAME:EDT
DTSTART:20230312T070000
END:DAYLIGHT
BEGIN:STANDARD
TZOFFSETFROM:-0400
TZOFFSETTO:-0500
TZNAME:EST
DTSTART:20231105T060000
END:STANDARD
BEGIN:DAYLIGHT
TZOFFSETFROM:-0500
TZOFFSETTO:-0400
TZNAME:EDT
DTSTART:20240310T070000
END:DAYLIGHT
BEGIN:STANDARD
TZOFFSETFROM:-0400
TZOFFSETTO:-0500
TZNAME:EST
DTSTART:20241103T060000
END:STANDARD
END:VTIMEZONE
BEGIN:VEVENT
DTSTART;TZID=America/New_York:20230908T190000
DTEND;TZID=America/New_York:20230908T203000
DTSTAMP:20260422T045531
CREATED:20230711T185334Z
LAST-MODIFIED:20230821T205527Z
UID:987494632-1694199600-1694205000@wvcollective.org
SUMMARY:The Stinky Cheese Man & Other Fairly Stupid Tales | 09/08/2023
DESCRIPTION:The Stinky Cheese Man\n						& Other Fairly Odd Tales\n						Friday September 8\, 2023 at 7:00pm\n						The ShowBuy Tickets\n					\n				\n					\n				\n				\n				\n					7\n					\n					\n				\n			\n				\n				\n			WV Collective Presents: \nEventsLive At The Raleigh Playhouse & Theatre In Beckley WV\nAbout The Show\nWV Collective’s production of “The Stinky Cheese Man” is more than just an entertaining performance\, but also a hands on introduction to Theater Arts for the next generation of talent in the Mountain State. Participants\, ages 10-18 will learn not only on-stage skill\, but all technical aspects of a theater production; from lighting\, to set design\, to backstage crew\, this production will instill the value of teamwork to create something bigger\, and spark an interest in a whole new world of creation. \nThe Story\nThough the characters may be familiar\, each of your favorite storybook fables is uproariously derailed in this adaptation of Jon Scieszka and Lane Smith's quintessential children's book of fractured fairy tales. Everything from "Chicken Little" to "The Gingerbread Man" gets a complete makeover. Fun music and witty narration accompany the likes of ineloquent giants\, sassy barnyard animals\, colossal cow pies\, and enough stinky cheese to go around. \nBuy Tickets\nDETAILS\nSeptember 8-9\, 2023\nThe Raleigh Playhouse and Theatre\n\n\n403 Neville Street\, Beckley\, WV\n\n\nFree w/ Donations Encouraged\n\n\nLobby open 1 hour before showtime.\nDoors open 30 minutes before showtime.\n\nSupport Our Sponsors\nEventsTickets On Sale NOW!Click the buttons below to buy your tickets online\, or to get directions to The Raleigh Playhouse & Theatre in Beckley WV. \nBuy TicketsGet Directions\n				\n				\n				\n				\n				\n				\n				\n				\n				\n				\n				\n				\n				\n				\n				\n				\n				\n				\n				\n					Collective Wit Beer Release Party\n				\n				\n			\n				\n				\n				\n				\n				Buy Tickets For:\n			\n			\n				\n				\n				\n				\n			\n				\n				\n				\n				\n				\n				[dcet_event_ticket _builder_version="4.21.0" _module_preset="default" global_colors_info="{}"][/dcet_event_ticket]\n			\n				\n				\n				\n				\n				[diec_event_page show_end_date="off" show_timezone="on" google_link="off" venue_weburl="off" show_name="off" organizer_phone="off" organizer_email="off" organizer_weburl="off" show_category="off" googlemap="off" show_icon_label="icon" _builder_version="4.21.0" _module_preset="default" global_colors_info="{}"][/diec_event_page]\n			\n				\n				\n				\n				\n			\n				\n				\n				\n				\n				\n				[diec_event_page show_date="off" show_end_date="off" show_time="off" show_venue="off" venue_phone="off" venue_weburl="off" show_name="off" organizer_phone="off" organizer_email="off" organizer_weburl="off" show_price="off" show_category="off" show_weburl="off" show_data_one_line="off" _builder_version="4.21.0" _module_preset="default" global_colors_info="{}"][/diec_event_page]\n				\n				\n				\n				\n				Sponsor A Student\n			\n				\n				\n				\n				\n				\n\n	Spotlight Sponsorship\n	$100.00
URL:https://wvcollective.org/event/the-stinky-cheese-man-09-08-23-1/
LOCATION:The Raleigh Playhouse and Theatre\, 403 Neville Street\, Beckley\, WV\, 25801\, United States
CATEGORIES:Live Theatre
ATTACH;FMTTYPE=image/jpeg:https://wvcollective.org/wp-content/uploads/2023/07/ShareImage.jpg
END:VEVENT
BEGIN:VEVENT
DTSTART;TZID=America/New_York:20230909T140000
DTEND;TZID=America/New_York:20230909T153000
DTSTAMP:20260422T045532
CREATED:20230712T210601Z
LAST-MODIFIED:20230821T205624Z
UID:987494712-1694268000-1694273400@wvcollective.org
SUMMARY:The Stinky Cheese Man & Other Fairly Stupid Tales | 09/09/2023 at 2pm
DESCRIPTION:The Stinky Cheese Man\n						& Other Fairly Odd Tales\n						Saturday September 9\, 2023 at 2:00pm\n						The ShowBuy Tickets\n					\n				\n					\n				\n				\n				\n					7\n					\n					\n				\n			\n				\n				\n			WV Collective Presents: \nEventsLive At The Raleigh Playhouse & Theatre In Beckley WV\nAbout The Show\nWV Collective’s production of “The Stinky Cheese Man” is more than just an entertaining performance\, but also a hands on introduction to Theater Arts for the next generation of talent in the Mountain State. Participants\, ages 10-18 will learn not only on-stage skill\, but all technical aspects of a theater production; from lighting\, to set design\, to backstage crew\, this production will instill the value of teamwork to create something bigger\, and spark an interest in a whole new world of creation. \nThe Story\nThough the characters may be familiar\, each of your favorite storybook fables is uproariously derailed in this adaptation of Jon Scieszka and Lane Smith's quintessential children's book of fractured fairy tales. Everything from "Chicken Little" to "The Gingerbread Man" gets a complete makeover. Fun music and witty narration accompany the likes of ineloquent giants\, sassy barnyard animals\, colossal cow pies\, and enough stinky cheese to go around. \nBuy Tickets\nDETAILS\nSeptember 8-9\, 2023\nThe Raleigh Playhouse and Theatre\n\n\n403 Neville Street\, Beckley\, WV\n\n\nFree w/ Donations Encouraged\n\n\nLobby open 1 hour before showtime.\nDoors open 30 minutes before showtime.\n\nSupport Our Sponsors\nEventsTickets On Sale NOW!Click the buttons below to buy your tickets online\, or to get directions to The Raleigh Playhouse & Theatre in Beckley WV. \nBuy TicketsGet Directions\n				\n				\n				\n				\n				\n				\n				\n				\n				\n				\n				\n				\n				\n				\n				\n				\n				\n				\n				\n					Collective Wit Beer Release Party\n				\n				\n			\n				\n				\n				\n				\n				Buy Tickets For:\n			\n			\n				\n				\n				\n				\n			\n				\n				\n				\n				\n				\n				[dcet_event_ticket _builder_version="4.21.0" _module_preset="default" global_colors_info="{}"][/dcet_event_ticket]\n			\n				\n				\n				\n				\n				[diec_event_page show_end_date="off" show_timezone="on" google_link="off" venue_weburl="off" show_name="off" organizer_phone="off" organizer_email="off" organizer_weburl="off" show_category="off" googlemap="off" show_icon_label="icon" _builder_version="4.21.0" _module_preset="default" global_colors_info="{}"][/diec_event_page]\n			\n				\n				\n				\n				\n			\n				\n				\n				\n				\n				\n				[diec_event_page show_date="off" show_end_date="off" show_time="off" show_venue="off" venue_phone="off" venue_weburl="off" show_name="off" organizer_phone="off" organizer_email="off" organizer_weburl="off" show_price="off" show_category="off" show_weburl="off" show_data_one_line="off" _builder_version="4.21.0" _module_preset="default" global_colors_info="{}"][/diec_event_page]\n				\n				\n				\n				\n				Sponsor A Student\n			\n				\n				\n				\n				\n				\n\n	Spotlight Sponsorship\n	$100.00
URL:https://wvcollective.org/event/the-stinky-cheese-man-other-fairly-stupid-tales-09-09-2023-at-2pm/
LOCATION:The Raleigh Playhouse and Theatre\, 403 Neville Street\, Beckley\, WV\, 25801\, United States
CATEGORIES:Live Theatre
ATTACH;FMTTYPE=image/jpeg:https://wvcollective.org/wp-content/uploads/2023/07/ShareImage.jpg
END:VEVENT
BEGIN:VEVENT
DTSTART;TZID=America/New_York:20230909T190000
DTEND;TZID=America/New_York:20230909T203000
DTSTAMP:20260422T045532
CREATED:20230712T210938Z
LAST-MODIFIED:20230909T193613Z
UID:987494718-1694286000-1694291400@wvcollective.org
SUMMARY:The Stinky Cheese Man & Other Fairly Stupid Tales | 09/09/2023 at 7pm
DESCRIPTION:The Stinky Cheese Man\n						& Other Fairly Odd Tales\n						Saturday September 9\, 2023 at 7:00pm\n						The ShowBuy Tickets\n					\n				\n					\n				\n				\n				\n					7\n					\n					\n				\n			\n				\n				\n			WV Collective Presents: \nEventsLive At The Raleigh Playhouse & Theatre In Beckley WV\nAbout The Show\nWV Collective’s production of “The Stinky Cheese Man” is more than just an entertaining performance\, but also a hands on introduction to Theater Arts for the next generation of talent in the Mountain State. Participants\, ages 10-18 will learn not only on-stage skill\, but all technical aspects of a theater production; from lighting\, to set design\, to backstage crew\, this production will instill the value of teamwork to create something bigger\, and spark an interest in a whole new world of creation. \nThe Story\nThough the characters may be familiar\, each of your favorite storybook fables is uproariously derailed in this adaptation of Jon Scieszka and Lane Smith's quintessential children's book of fractured fairy tales. Everything from "Chicken Little" to "The Gingerbread Man" gets a complete makeover. Fun music and witty narration accompany the likes of ineloquent giants\, sassy barnyard animals\, colossal cow pies\, and enough stinky cheese to go around. \nBuy Tickets\nDETAILS\nSeptember 8-9\, 2023\nThe Raleigh Playhouse and Theatre\n\n\n403 Neville Street\, Beckley\, WV\n\n\nFree w/ Donations Encouraged\n\n\nLobby open 1 hour before showtime.\nDoors open 30 minutes before showtime.\n\nSupport Our Sponsors\nEventsTickets On Sale NOW!Click the buttons below to buy your tickets online\, or to get directions to The Raleigh Playhouse & Theatre in Beckley WV. \nBuy TicketsGet Directions\n				\n				\n				\n				\n				\n				\n				\n				\n				\n				\n				\n				\n				\n				\n				\n				\n				\n				\n				\n					Collective Wit Beer Release Party\n				\n				\n			\n				\n				\n				\n				\n				Buy Tickets For:\n			\n			\n				\n				\n				\n				\n			\n				\n				\n				\n				\n				\n				[dcet_event_ticket _builder_version="4.21.0" _module_preset="default" global_colors_info="{}"][/dcet_event_ticket]\n			\n				\n				\n				\n				\n				[diec_event_page show_end_date="off" show_timezone="on" google_link="off" venue_weburl="off" show_name="off" organizer_phone="off" organizer_email="off" organizer_weburl="off" show_category="off" googlemap="off" show_icon_label="icon" _builder_version="4.21.0" _module_preset="default" global_colors_info="{}"][/diec_event_page]\n			\n				\n				\n				\n				\n			\n				\n				\n				\n				\n				\n				[diec_event_page show_date="off" show_end_date="off" show_time="off" show_venue="off" venue_phone="off" venue_weburl="off" show_name="off" organizer_phone="off" organizer_email="off" organizer_weburl="off" show_price="off" show_category="off" show_weburl="off" show_data_one_line="off" _builder_version="4.21.0" _module_preset="default" global_colors_info="{}"][/diec_event_page]\n				\n				\n				\n				\n				Sponsor A Student\n			\n				\n				\n				\n				\n				\n\n	Spotlight Sponsorship\n	$100.00
URL:https://wvcollective.org/event/the-stinky-cheese-man-other-fairly-stupid-tales-09-09-2023-at-7pm/
LOCATION:The Raleigh Playhouse and Theatre\, 403 Neville Street\, Beckley\, WV\, 25801\, United States
CATEGORIES:Live Theatre
ATTACH;FMTTYPE=image/jpeg:https://wvcollective.org/wp-content/uploads/2023/07/ShareImage.jpg
END:VEVENT
END:VCALENDAR