BEGIN:VCALENDAR
VERSION:2.0
PRODID:-//WV Collective - ECPv6.15.20//NONSGML v1.0//EN
CALSCALE:GREGORIAN
METHOD:PUBLISH
X-WR-CALNAME:WV Collective
X-ORIGINAL-URL:https://wvcollective.org
X-WR-CALDESC:Events for WV Collective
REFRESH-INTERVAL;VALUE=DURATION:PT1H
X-Robots-Tag:noindex
X-PUBLISHED-TTL:PT1H
BEGIN:VTIMEZONE
TZID:America/New_York
BEGIN:DAYLIGHT
TZOFFSETFROM:-0500
TZOFFSETTO:-0400
TZNAME:EDT
DTSTART:20240310T070000
END:DAYLIGHT
BEGIN:STANDARD
TZOFFSETFROM:-0400
TZOFFSETTO:-0500
TZNAME:EST
DTSTART:20241103T060000
END:STANDARD
BEGIN:DAYLIGHT
TZOFFSETFROM:-0500
TZOFFSETTO:-0400
TZNAME:EDT
DTSTART:20250309T070000
END:DAYLIGHT
BEGIN:STANDARD
TZOFFSETFROM:-0400
TZOFFSETTO:-0500
TZNAME:EST
DTSTART:20251102T060000
END:STANDARD
BEGIN:DAYLIGHT
TZOFFSETFROM:-0500
TZOFFSETTO:-0400
TZNAME:EDT
DTSTART:20260308T070000
END:DAYLIGHT
BEGIN:STANDARD
TZOFFSETFROM:-0400
TZOFFSETTO:-0500
TZNAME:EST
DTSTART:20261101T060000
END:STANDARD
END:VTIMEZONE
BEGIN:VEVENT
DTSTART;TZID=America/New_York:20250603T170000
DTEND;TZID=America/New_York:20250603T190000
DTSTAMP:20260424T112910
CREATED:20250520T195457Z
LAST-MODIFIED:20250520T200143Z
UID:987500170-1748970000-1748977200@wvcollective.org
SUMMARY:Audition Announcement: The Last Five Years
DESCRIPTION:Audition Announcement: The Last Five Years\n						\n						\n						Sign UpInfo\n					\n				\n					\n				\n				\n				\n			\n				\n				\n			\n				\n				\n				\n				\n				\n				\n				\n				\n				\n				\n				\n				\n				\n				\n				\n				\n				\n				WV Collective Presents: \n			\n				\n				\n				\n				\n				\n				\n					Audition Announcement: The Last Five Years\n				\n				\n			\n				\n				\n				\n				\n				At The Beckley Woman's Club\n			\n				\n				\n				\n				\n				202 Park Ave\, Beckley WV \n			[diec_event_page show_end_date="off" venue_phone="off" venue_weburl="off" show_name="off" organizer_phone="off" organizer_email="off" show_price="off" show_ticket_feed_respond="off" show_ticket_feed_left="off" show_rsvp_feed="off" show_category="off" hide_comma_cat="off" show_weburl="off" googlemap="off" show_icon_label="icon" _builder_version="4.27.4" _module_preset="default" global_colors_info="{}"][/diec_event_page]\n				Sign Up To Audition\n			\n			\n				\n				\n				\n				\n				\n				\n				\n				\n				\n				\n			\n			\n				\n				\n				\n				\n			\n				\n				\n			\n				\n				\n				\n				\n				\n				\n				\n				\n				\n				\n				\n				\n				\n				\n				\n				\n				\n				Open Audition Announcement\n'THE LAST FIVE YEARS' AUDITIONS:  TUESDAY\, JUNE 3\, 2025\, at the THE BECKLEY WOMAN'S CLUB. WV Collective proudly announces auditions for its upcoming production of THE LAST FIVE YEARS - which will be opening at THE BECKLEY WOMAN'S CLUB July 24\, 2025 and run thru July 27\, 2025. \n			\n			\n				\n				\n				\n				\n			\n				\n				\n				\n				\n				\n				\n				\n				\n				\n				\n				The Cast\n\nJAMIE WELLERSTEIN:  Male\, age 25-55\nCATHERINE HIATT:  Female\, age 25-55\n\n			\n			\n				\n				\n				\n				\n			\n				\n				\n				\n				\n				\n				\n				\n				\n				\n				\n				Preparing For The Audition\nAuditionees are asked to have the following prepared:\n\n2 contrasting musical selections (approximately 32 bars each) that showcase your vocal range and emotional connection to material. Contemporary selections are preferred. An accompanist will be provided\, if you wish to bring sheet music. Otherwise\, a cappella is perfectly fine.\nA short monologue (1–2 minutes.) Again\, contemporary theater preferred.\n\n			\n			\n				\n				\n				\n				\n			\n				\n				\n				\n				\n				\n				\n				\n				\n				\n				\n				The Crew\n\nWe’re also looking to fill several behind the stage roles\, so fellas\, don’t feel left out.
URL:https://wvcollective.org/event/audition-the-last-five-years/
LOCATION:The Beckley Woman’s Club\, 202 Park Ave\, Beckley\, WV\, 25801\, United States
CATEGORIES:Audition
ATTACH;FMTTYPE=image/webp:https://wvcollective.org/wp-content/uploads/2025/05/last-five-share-layers-AUDITION.webp
END:VEVENT
END:VCALENDAR